BEGIN:VCALENDAR
VERSION:2.0
PRODID:-//City of York, Pennsylvania - ECPv6.15.20//NONSGML v1.0//EN
CALSCALE:GREGORIAN
METHOD:PUBLISH
X-ORIGINAL-URL:https://www.yorkcity.org
X-WR-CALDESC:Events for City of York, Pennsylvania
REFRESH-INTERVAL;VALUE=DURATION:PT1H
X-Robots-Tag:noindex
X-PUBLISHED-TTL:PT1H
BEGIN:VTIMEZONE
TZID:UTC
BEGIN:STANDARD
TZOFFSETFROM:+0000
TZOFFSETTO:+0000
TZNAME:UTC
DTSTART:20170101T000000
END:STANDARD
END:VTIMEZONE
BEGIN:VTIMEZONE
TZID:America/Halifax
BEGIN:DAYLIGHT
TZOFFSETFROM:-0400
TZOFFSETTO:-0300
TZNAME:ADT
DTSTART:20230312T060000
END:DAYLIGHT
BEGIN:STANDARD
TZOFFSETFROM:-0300
TZOFFSETTO:-0400
TZNAME:AST
DTSTART:20231105T050000
END:STANDARD
BEGIN:DAYLIGHT
TZOFFSETFROM:-0400
TZOFFSETTO:-0300
TZNAME:ADT
DTSTART:20240310T060000
END:DAYLIGHT
BEGIN:STANDARD
TZOFFSETFROM:-0300
TZOFFSETTO:-0400
TZNAME:AST
DTSTART:20241103T050000
END:STANDARD
BEGIN:DAYLIGHT
TZOFFSETFROM:-0400
TZOFFSETTO:-0300
TZNAME:ADT
DTSTART:20250309T060000
END:DAYLIGHT
BEGIN:STANDARD
TZOFFSETFROM:-0300
TZOFFSETTO:-0400
TZNAME:AST
DTSTART:20251102T050000
END:STANDARD
END:VTIMEZONE
BEGIN:VEVENT
DTSTART;TZID=UTC:20180312T183000
DTEND;TZID=UTC:20180312T183000
DTSTAMP:20260419T111928
CREATED:20180301T183713Z
LAST-MODIFIED:20200326T200810Z
UID:4029-1520879400-1520879400@www.yorkcity.org
SUMMARY:York City Planning Commission Meeting
DESCRIPTION:Planning Commission Board
URL:https://www.yorkcity.org/event/york-city-planning-commission-meeting/
LOCATION:Council Chambers\, 101 S George St\, York\, PA\, 17401\, United States
END:VEVENT
BEGIN:VEVENT
DTSTART;TZID=America/Halifax:20240916T120000
DTEND;TZID=America/Halifax:20240916T130000
DTSTAMP:20260419T111928
CREATED:20240418T173148Z
LAST-MODIFIED:20240418T173148Z
UID:15672-1726488000-1726491600@www.yorkcity.org
SUMMARY:Health Bureau Board Meeting
DESCRIPTION:Meeting to be held in the former bank spaces.
URL:https://www.yorkcity.org/event/health-bureau-board-meeting-2/
LOCATION:City Hall\, 101 S. George Street\, York\, PA\, United States
END:VEVENT
BEGIN:VEVENT
DTSTART;TZID=America/Halifax:20240917T180000
DTEND;TZID=America/Halifax:20240917T190000
DTSTAMP:20260419T111928
CREATED:20240419T135037Z
LAST-MODIFIED:20240419T135037Z
UID:15708-1726596000-1726599600@www.yorkcity.org
SUMMARY:City Council Meeting
DESCRIPTION:
URL:https://www.yorkcity.org/event/city-council-meeting-28/
LOCATION:Council Chambers\, 101 S George St\, York\, PA\, 17401\, United States
END:VEVENT
BEGIN:VEVENT
DTSTART;TZID=UTC:20210721T160000
DTEND;TZID=UTC:20210721T170000
DTSTAMP:20260419T111928
CREATED:20180301T184326Z
LAST-MODIFIED:20210708T210750Z
UID:4101-1626883200-1626886800@www.yorkcity.org
SUMMARY:Redevelopment Authority Board Meeting
DESCRIPTION:
URL:https://www.yorkcity.org/event/redevelopment-authority-board-meeting/
LOCATION:Council Chambers\, 101 S George St\, York\, PA\, 17401\, United States
END:VEVENT
BEGIN:VEVENT
DTSTART;TZID=America/Halifax:20240919T180000
DTEND;TZID=America/Halifax:20240919T180000
DTSTAMP:20260419T111928
CREATED:20240418T161012Z
LAST-MODIFIED:20240418T161012Z
UID:15633-1726768800-1726768800@www.yorkcity.org
SUMMARY:Zoning Hearing Board
DESCRIPTION:
URL:https://www.yorkcity.org/event/zoning-hearing-board-6/
LOCATION:Council Chambers\, 101 S George St\, York\, PA\, 17401\, United States
END:VEVENT
BEGIN:VEVENT
DTSTART;TZID=UTC:20181018T183000
DTEND;TZID=UTC:20181018T193000
DTSTAMP:20260419T111928
CREATED:20180301T183834Z
LAST-MODIFIED:20200326T201142Z
UID:4030-1539887400-1539891000@www.yorkcity.org
SUMMARY:York City Zoning Hearing Board Meeting
DESCRIPTION:
URL:https://www.yorkcity.org/event/york-city-zoning-hearing-board-meeting/
LOCATION:Council Chambers\, 101 S George St\, York\, PA\, 17401\, United States
END:VEVENT
BEGIN:VEVENT
DTSTART;TZID=America/Halifax:20240924T173000
DTEND;TZID=America/Halifax:20240924T183000
DTSTAMP:20260419T111928
CREATED:20240418T172129Z
LAST-MODIFIED:20240418T172129Z
UID:15666-1727199000-1727202600@www.yorkcity.org
SUMMARY:Civil Service Board Meeting
DESCRIPTION:
URL:https://www.yorkcity.org/event/civil-service-board-meeting-6/
LOCATION:Pullo Conference Room\, 101 South George Street\, York\, PA\, 17401\, United States
END:VEVENT
BEGIN:VEVENT
DTSTART;TZID=America/Halifax:20240925T180000
DTEND;TZID=America/Halifax:20240925T200000
DTSTAMP:20260419T111928
CREATED:20231229T021012Z
LAST-MODIFIED:20231229T021012Z
UID:15092-1727287200-1727294400@www.yorkcity.org
SUMMARY:City Council Committee Meeting
DESCRIPTION:If you are a person with a disability and wish to participate in the meeting\, please call (717) 849-2246 if any accommodations are needed. Persons with hearing impairments may contact the Deaf Center at TDD (717) 848-6765. \nView Committee Agenda
URL:https://www.yorkcity.org/event/city-council-committee-meeting-45/
LOCATION:City Hall\, 101 S. George Street\, York\, PA\, United States
ORGANIZER;CN="City Clerk":MAILTO:dthompso@yorkcity.org
END:VEVENT
BEGIN:VEVENT
DTSTART;TZID=America/Halifax:20240926T180000
DTEND;TZID=America/Halifax:20240926T190000
DTSTAMP:20260419T111928
CREATED:20240418T171315Z
LAST-MODIFIED:20240418T171315Z
UID:15652-1727373600-1727377200@www.yorkcity.org
SUMMARY:HARB Meeting
DESCRIPTION:
URL:https://www.yorkcity.org/event/harb-meeting-11/
LOCATION:Council Chambers\, 101 S George St\, York\, PA\, 17401\, United States
END:VEVENT
BEGIN:VEVENT
DTSTART;TZID=America/Halifax:20241001T180000
DTEND;TZID=America/Halifax:20241001T190000
DTSTAMP:20260419T111928
CREATED:20240419T135045Z
LAST-MODIFIED:20240419T135045Z
UID:15709-1727805600-1727809200@www.yorkcity.org
SUMMARY:City Council Meeting
DESCRIPTION:
URL:https://www.yorkcity.org/event/city-council-meeting-29/
LOCATION:Council Chambers\, 101 S George St\, York\, PA\, 17401\, United States
END:VEVENT
BEGIN:VEVENT
DTSTART;TZID=UTC:20180305T080000
DTEND;TZID=UTC:20180305T170000
DTSTAMP:20260419T111928
CREATED:20180301T183530Z
LAST-MODIFIED:20180301T184212Z
UID:4028-1520236800-1520269200@www.yorkcity.org
SUMMARY:Zoning Appeal Submission Deadline
DESCRIPTION:Cheryl Rascoe\,\n101 S. George St.\, 2nd Floor\, York\, PA 17401\nPhone: 717.849.2280
URL:https://www.yorkcity.org/event/zoning-appeal-submission-deadline/
LOCATION:PA
END:VEVENT
BEGIN:VEVENT
DTSTART;TZID=America/Halifax:20241009T073000
DTEND;TZID=America/Halifax:20241009T090000
DTSTAMP:20260419T111928
CREATED:20240506T135043Z
LAST-MODIFIED:20240506T135043Z
UID:15796-1728459000-1728464400@www.yorkcity.org
SUMMARY:YBIDA Meeting
DESCRIPTION:To join via Zoom use Meeting ID 862 3516 6195.\nTo join via phone call 1-929-205-6099 or 1-301-715-8592 and use Meeting ID 862 3516 6195.\nIf you experience difficulty connecting to the meeting call 717-968-4307.\nPublic comments submitted in advance related to action before the Authority will be heard during the meeting.\nThe above meetings will be held for the purpose of passing resolutions and such other business as may come before the Authority.
URL:https://www.yorkcity.org/event/ybida-meeting-3/
LOCATION:Stock and Leader Attorneys at Law\, 221 West Philadelphia St. Suite 600\, York\, PA\, 17401\, United States
END:VEVENT
BEGIN:VEVENT
DTSTART;TZID=America/Halifax:20241010T180000
DTEND;TZID=America/Halifax:20241010T190000
DTSTAMP:20260419T111928
CREATED:20240418T171333Z
LAST-MODIFIED:20240418T171333Z
UID:15653-1728583200-1728586800@www.yorkcity.org
SUMMARY:HARB Meeting
DESCRIPTION:
URL:https://www.yorkcity.org/event/harb-meeting-12/
LOCATION:Council Chambers\, 101 S George St\, York\, PA\, 17401\, United States
END:VEVENT
BEGIN:VEVENT
DTSTART;TZID=UTC:20180312T183000
DTEND;TZID=UTC:20180312T183000
DTSTAMP:20260419T111928
CREATED:20180301T183713Z
LAST-MODIFIED:20200326T200810Z
UID:4029-1520879400-1520879400@www.yorkcity.org
SUMMARY:York City Planning Commission Meeting
DESCRIPTION:Planning Commission Board
URL:https://www.yorkcity.org/event/york-city-planning-commission-meeting/
LOCATION:Council Chambers\, 101 S George St\, York\, PA\, 17401\, United States
END:VEVENT
BEGIN:VEVENT
DTSTART;TZID=America/Halifax:20241014T180000
DTEND;TZID=America/Halifax:20241014T190000
DTSTAMP:20260419T111928
CREATED:20240418T155222Z
LAST-MODIFIED:20240418T155958Z
UID:15622-1728928800-1728932400@www.yorkcity.org
SUMMARY:Planning Commission
DESCRIPTION:
URL:https://www.yorkcity.org/event/planning-commission-6/
LOCATION:PA
END:VEVENT
BEGIN:VEVENT
DTSTART;TZID=America/Halifax:20241015T180000
DTEND;TZID=America/Halifax:20241015T190000
DTSTAMP:20260419T111928
CREATED:20240419T135053Z
LAST-MODIFIED:20240419T135053Z
UID:15710-1729015200-1729018800@www.yorkcity.org
SUMMARY:City Council Meeting
DESCRIPTION:
URL:https://www.yorkcity.org/event/city-council-meeting-30/
LOCATION:Council Chambers\, 101 S George St\, York\, PA\, 17401\, United States
END:VEVENT
BEGIN:VEVENT
DTSTART;TZID=UTC:20210721T160000
DTEND;TZID=UTC:20210721T170000
DTSTAMP:20260419T111928
CREATED:20180301T184326Z
LAST-MODIFIED:20210708T210750Z
UID:4101-1626883200-1626886800@www.yorkcity.org
SUMMARY:Redevelopment Authority Board Meeting
DESCRIPTION:
URL:https://www.yorkcity.org/event/redevelopment-authority-board-meeting/
LOCATION:Council Chambers\, 101 S George St\, York\, PA\, 17401\, United States
END:VEVENT
BEGIN:VEVENT
DTSTART;TZID=America/Halifax:20241017T180000
DTEND;TZID=America/Halifax:20241017T180000
DTSTAMP:20260419T111928
CREATED:20240418T161025Z
LAST-MODIFIED:20240418T161153Z
UID:15634-1729188000-1729188000@www.yorkcity.org
SUMMARY:Zoning Hearing Board
DESCRIPTION:
URL:https://www.yorkcity.org/event/zoning-hearing-board-7/
LOCATION:Council Chambers\, 101 S George St\, York\, PA\, 17401\, United States
END:VEVENT
BEGIN:VEVENT
DTSTART;TZID=UTC:20181018T183000
DTEND;TZID=UTC:20181018T193000
DTSTAMP:20260419T111928
CREATED:20180301T183834Z
LAST-MODIFIED:20200326T201142Z
UID:4030-1539887400-1539891000@www.yorkcity.org
SUMMARY:York City Zoning Hearing Board Meeting
DESCRIPTION:
URL:https://www.yorkcity.org/event/york-city-zoning-hearing-board-meeting/
LOCATION:Council Chambers\, 101 S George St\, York\, PA\, 17401\, United States
END:VEVENT
BEGIN:VEVENT
DTSTART;TZID=America/Halifax:20241022T173000
DTEND;TZID=America/Halifax:20241022T183000
DTSTAMP:20260419T111928
CREATED:20240418T172145Z
LAST-MODIFIED:20240418T172145Z
UID:15667-1729618200-1729621800@www.yorkcity.org
SUMMARY:Civil Service Board Meeting
DESCRIPTION:
URL:https://www.yorkcity.org/event/civil-service-board-meeting-7/
LOCATION:Pullo Conference Room\, 101 South George Street\, York\, PA\, 17401\, United States
END:VEVENT
BEGIN:VEVENT
DTSTART;TZID=America/Halifax:20241023T180000
DTEND;TZID=America/Halifax:20241023T200000
DTSTAMP:20260419T111928
CREATED:20231229T021055Z
LAST-MODIFIED:20241014T200156Z
UID:15093-1729706400-1729713600@www.yorkcity.org
SUMMARY:City Council Committee Meeting - Canceled
DESCRIPTION:The October 23\, 2024\, York City Council Committee meeting has been canceled.
URL:https://www.yorkcity.org/event/city-council-committee-meeting-46/
LOCATION:City Hall\, 101 S. George Street\, York\, PA\, United States
ORGANIZER;CN="City Clerk":MAILTO:dthompso@yorkcity.org
END:VEVENT
BEGIN:VEVENT
DTSTART;TZID=America/Halifax:20241024T180000
DTEND;TZID=America/Halifax:20241024T190000
DTSTAMP:20260419T111928
CREATED:20240418T171409Z
LAST-MODIFIED:20240418T171409Z
UID:15654-1729792800-1729796400@www.yorkcity.org
SUMMARY:HARB Meeting
DESCRIPTION:
URL:https://www.yorkcity.org/event/harb-meeting-13/
LOCATION:Council Chambers\, 101 S George St\, York\, PA\, 17401\, United States
END:VEVENT
BEGIN:VEVENT
DTSTART;TZID=UTC:20180305T080000
DTEND;TZID=UTC:20180305T170000
DTSTAMP:20260419T111928
CREATED:20180301T183530Z
LAST-MODIFIED:20180301T184212Z
UID:4028-1520236800-1520269200@www.yorkcity.org
SUMMARY:Zoning Appeal Submission Deadline
DESCRIPTION:Cheryl Rascoe\,\n101 S. George St.\, 2nd Floor\, York\, PA 17401\nPhone: 717.849.2280
URL:https://www.yorkcity.org/event/zoning-appeal-submission-deadline/
LOCATION:PA
END:VEVENT
BEGIN:VEVENT
DTSTART;TZID=America/Halifax:20241106T180000
DTEND;TZID=America/Halifax:20241106T190000
DTSTAMP:20260419T111928
CREATED:20240419T135105Z
LAST-MODIFIED:20240419T135105Z
UID:15711-1730916000-1730919600@www.yorkcity.org
SUMMARY:City Council Meeting
DESCRIPTION:
URL:https://www.yorkcity.org/event/city-council-meeting-31/
LOCATION:Council Chambers\, 101 S George St\, York\, PA\, 17401\, United States
END:VEVENT
BEGIN:VEVENT
DTSTART;TZID=America/Halifax:20241106T180000
DTEND;TZID=America/Halifax:20241106T200000
DTSTAMP:20260419T111928
CREATED:20231229T022519Z
LAST-MODIFIED:20231229T022519Z
UID:15102-1730916000-1730923200@www.yorkcity.org
SUMMARY:City Council Legislative Meeting
DESCRIPTION:If you are a person with a disability and wish to participate in the meeting\, please call (717) 849-2246 if any accommodations are needed. Persons with hearing impairments may contact the Deaf Center at TDD (717) 848-6765. \nView Council Agenda
URL:https://www.yorkcity.org/event/city-council-legislative-meeting-102/
LOCATION:City Hall\, 101 S. George Street\, York\, PA\, United States
ORGANIZER;CN="City Clerk":MAILTO:dthompso@yorkcity.org
END:VEVENT
BEGIN:VEVENT
DTSTART;TZID=America/Halifax:20241111T180000
DTEND;TZID=America/Halifax:20241111T190000
DTSTAMP:20260419T111928
CREATED:20240418T155244Z
LAST-MODIFIED:20240418T160002Z
UID:15623-1731348000-1731351600@www.yorkcity.org
SUMMARY:Planning Commission
DESCRIPTION:
URL:https://www.yorkcity.org/event/planning-commission-7/
LOCATION:PA
END:VEVENT
BEGIN:VEVENT
DTSTART;TZID=UTC:20180312T183000
DTEND;TZID=UTC:20180312T183000
DTSTAMP:20260419T111928
CREATED:20180301T183713Z
LAST-MODIFIED:20200326T200810Z
UID:4029-1520879400-1520879400@www.yorkcity.org
SUMMARY:York City Planning Commission Meeting
DESCRIPTION:Planning Commission Board
URL:https://www.yorkcity.org/event/york-city-planning-commission-meeting/
LOCATION:Council Chambers\, 101 S George St\, York\, PA\, 17401\, United States
END:VEVENT
BEGIN:VEVENT
DTSTART;TZID=America/Halifax:20241114T180000
DTEND;TZID=America/Halifax:20241114T190000
DTSTAMP:20260419T111928
CREATED:20240418T171424Z
LAST-MODIFIED:20240418T171424Z
UID:15655-1731607200-1731610800@www.yorkcity.org
SUMMARY:HARB Meeting
DESCRIPTION:
URL:https://www.yorkcity.org/event/harb-meeting-14/
LOCATION:Council Chambers\, 101 S George St\, York\, PA\, 17401\, United States
END:VEVENT
BEGIN:VEVENT
DTSTART;TZID=America/Halifax:20241119T180000
DTEND;TZID=America/Halifax:20241119T190000
DTSTAMP:20260419T111928
CREATED:20240419T135114Z
LAST-MODIFIED:20240419T135114Z
UID:15712-1732039200-1732042800@www.yorkcity.org
SUMMARY:City Council Meeting
DESCRIPTION:
URL:https://www.yorkcity.org/event/city-council-meeting-32/
LOCATION:Council Chambers\, 101 S George St\, York\, PA\, 17401\, United States
END:VEVENT
BEGIN:VEVENT
DTSTART;TZID=UTC:20210721T160000
DTEND;TZID=UTC:20210721T170000
DTSTAMP:20260419T111928
CREATED:20180301T184326Z
LAST-MODIFIED:20210708T210750Z
UID:4101-1626883200-1626886800@www.yorkcity.org
SUMMARY:Redevelopment Authority Board Meeting
DESCRIPTION:
URL:https://www.yorkcity.org/event/redevelopment-authority-board-meeting/
LOCATION:Council Chambers\, 101 S George St\, York\, PA\, 17401\, United States
END:VEVENT
END:VCALENDAR