BEGIN:VCALENDAR
VERSION:2.0
PRODID:-//City of York, Pennsylvania - ECPv6.15.20//NONSGML v1.0//EN
CALSCALE:GREGORIAN
METHOD:PUBLISH
X-WR-CALNAME:City of York, Pennsylvania
X-ORIGINAL-URL:https://www.yorkcity.org
X-WR-CALDESC:Events for City of York, Pennsylvania
REFRESH-INTERVAL;VALUE=DURATION:PT1H
X-Robots-Tag:noindex
X-PUBLISHED-TTL:PT1H
BEGIN:VTIMEZONE
TZID:UTC
BEGIN:STANDARD
TZOFFSETFROM:+0000
TZOFFSETTO:+0000
TZNAME:UTC
DTSTART:20170101T000000
END:STANDARD
END:VTIMEZONE
BEGIN:VEVENT
DTSTART;TZID=UTC:20180501T180000
DTEND;TZID=UTC:20180501T200000
DTSTAMP:20260423T060843
CREATED:20171221T211211Z
LAST-MODIFIED:20171228T235451Z
UID:3680-1525197600-1525204800@www.yorkcity.org
SUMMARY:City Council Legislative Meeting
DESCRIPTION:If you are a person with a disability and plan to attend the meeting\, please call (717) 849-2883 if any accommodations are needed to participate in the proceedings. Persons with hearing impairments may contact the Deaf Center at TDD (717) 848-6765. \nView Council Agenda
URL:https://www.yorkcity.org/event/city-council-legislative-meeting-26/
LOCATION:City Hall\, 101 S. George Street\, York\, PA\, United States
ORGANIZER;CN="City Clerk":MAILTO:dthompso@yorkcity.org
END:VEVENT
BEGIN:VEVENT
DTSTART;TZID=UTC:20180305T080000
DTEND;TZID=UTC:20180305T170000
DTSTAMP:20260423T060843
CREATED:20180301T183530Z
LAST-MODIFIED:20180301T184212Z
UID:4028-1520236800-1520269200@www.yorkcity.org
SUMMARY:Zoning Appeal Submission Deadline
DESCRIPTION:Cheryl Rascoe\,\n101 S. George St.\, 2nd Floor\, York\, PA 17401\nPhone: 717.849.2280
URL:https://www.yorkcity.org/event/zoning-appeal-submission-deadline/
LOCATION:PA
END:VEVENT
BEGIN:VEVENT
DTSTART;TZID=UTC:20180505T100000
DTEND;TZID=UTC:20180505T140000
DTSTAMP:20260423T060843
CREATED:20180227T214803Z
LAST-MODIFIED:20180227T214803Z
UID:4016-1525514400-1525528800@www.yorkcity.org
SUMMARY:May Yard Waste Drop-Off
DESCRIPTION:Yard Waste drop-off at Memorial Stadium open 10am-2pm (Bring proof of residency) NO GRASS!
URL:https://www.yorkcity.org/event/may-yard-waste-drop-off/
LOCATION:PA
END:VEVENT
BEGIN:VEVENT
DTSTART;TZID=UTC:20180312T183000
DTEND;TZID=UTC:20180312T183000
DTSTAMP:20260423T060843
CREATED:20180301T183713Z
LAST-MODIFIED:20200326T200810Z
UID:4029-1520879400-1520879400@www.yorkcity.org
SUMMARY:York City Planning Commission Meeting
DESCRIPTION:Planning Commission Board
URL:https://www.yorkcity.org/event/york-city-planning-commission-meeting/
LOCATION:Council Chambers\, 101 S George St\, York\, PA\, 17401\, United States
END:VEVENT
BEGIN:VEVENT
DTSTART;TZID=UTC:20180516T180000
DTEND;TZID=UTC:20180516T200000
DTSTAMP:20260423T060843
CREATED:20171221T211248Z
LAST-MODIFIED:20171228T235515Z
UID:3681-1526493600-1526500800@www.yorkcity.org
SUMMARY:City Council Legislative Meeting
DESCRIPTION:If you are a person with a disability and plan to attend the meeting\, please call (717) 849-2883 if any accommodations are needed to participate in the proceedings. Persons with hearing impairments may contact the Deaf Center at TDD (717) 848-6765. \nView Council Agenda
URL:https://www.yorkcity.org/event/city-council-legislative-meeting-27/
LOCATION:City Hall\, 101 S. George Street\, York\, PA\, United States
ORGANIZER;CN="City Clerk":MAILTO:dthompso@yorkcity.org
END:VEVENT
BEGIN:VEVENT
DTSTART;TZID=UTC:20180523T180000
DTEND;TZID=UTC:20180523T200000
DTSTAMP:20260423T060843
CREATED:20171221T211326Z
LAST-MODIFIED:20171221T211326Z
UID:3682-1527098400-1527105600@www.yorkcity.org
SUMMARY:City Council Committee Meeting
DESCRIPTION:If you are a person with a disability and plan to attend the meeting\, please call (717) 849-2883 if any accommodations are needed to participate in the proceedings. Persons with hearing impairments may contact the Deaf Center at TDD (717) 848-6765. \nView Council Agenda
URL:https://www.yorkcity.org/event/city-council-committee-meeting-12/
LOCATION:City Hall\, 101 S. George Street\, York\, PA\, United States
ORGANIZER;CN="City Clerk":MAILTO:dthompso@yorkcity.org
END:VEVENT
END:VCALENDAR